{
 "currentVersion": 11.1,
 "cimVersion": "3.1.0",
 "serviceDescription": "",
 "mapName": "Regional Bathymetry",
 "description": "",
 "copyrightText": "",
 "supportsDynamicLayers": true,
 "layers": [
  {
   "id": 0,
   "name": "NZ Regional Bathymetry Mercator 41",
   "parentLayerId": -1,
   "defaultVisibility": true,
   "subLayerIds": null,
   "minScale": 0,
   "maxScale": 0,
   "type": "Raster Layer",
   "supportsDynamicLegends": true
  }
 ],
 "tables": [],
 "spatialReference": {
  "wkid": 3994,
  "latestWkid": 3994,
  "xyTolerance": 0.001,
  "zTolerance": 0.001,
  "mTolerance": 0.001,
  "falseX": -15144500,
  "falseY": -22823900,
  "xyUnits": 10000,
  "falseZ": -100000,
  "zUnits": 10000,
  "falseM": -100000,
  "mUnits": 10000
 },
 "singleFusedMapCache": true,
 "tileInfo": {
  "rows": 256,
  "cols": 256,
  "dpi": 96,
  "format": "MIXED",
  "compressionQuality": 75,
  "origin": {
   "x": -15144500,
   "y": 22823900
  },
  "spatialReference": {
   "wkid": 3994,
   "latestWkid": 3994,
   "xyTolerance": 0.001,
   "zTolerance": 0.001,
   "mTolerance": 0.001,
   "falseX": -15144500,
   "falseY": -22823900,
   "xyUnits": 10000,
   "falseZ": -100000,
   "zUnits": 10000,
   "falseM": -100000,
   "mUnits": 10000
  },
  "lods": [
   {
    "level": 0,
    "resolution": 8466.683600033868,
    "scale": 32000000
   },
   {
    "level": 1,
    "resolution": 4233.341800016934,
    "scale": 16000000
   },
   {
    "level": 2,
    "resolution": 2116.670900008467,
    "scale": 8000000
   },
   {
    "level": 3,
    "resolution": 1058.3354500042335,
    "scale": 4000000
   },
   {
    "level": 4,
    "resolution": 529.1677250021168,
    "scale": 2000000
   },
   {
    "level": 5,
    "resolution": 264.5838625010584,
    "scale": 1000000
   },
   {
    "level": 6,
    "resolution": 132.2919312505292,
    "scale": 500000
   },
   {
    "level": 7,
    "resolution": 66.1459656252646,
    "scale": 250000
   },
   {
    "level": 8,
    "resolution": 33.0729828126323,
    "scale": 125000
   },
   {
    "level": 9,
    "resolution": 16.933367200067735,
    "scale": 64000
   },
   {
    "level": 10,
    "resolution": 8.466683600033868,
    "scale": 32000
   }
  ]
 },
 "storageInfo": {
  "storageFormat": "esriMapCacheStorageModeCompactV2",
  "packetSize": 128
 },
 "initialExtent": {
  "xmin": 5945793.983676387,
  "ymin": -3627280.9729941553,
  "xmax": 6431071.152065542,
  "ymax": -3106173.754607357,
  "spatialReference": {
   "wkid": 3994,
   "latestWkid": 3994,
   "xyTolerance": 0.001,
   "zTolerance": 0.001,
   "mTolerance": 0.001,
   "falseX": -15144500,
   "falseY": -22823900,
   "xyUnits": 10000,
   "falseZ": -100000,
   "zUnits": 10000,
   "falseM": -100000,
   "mUnits": 10000
  }
 },
 "fullExtent": {
  "xmin": 4780211.61885815,
  "ymin": -5924442.772250391,
  "xmax": 7842711.61885815,
  "ymax": -2050942.772250389,
  "spatialReference": {
   "wkid": 3994,
   "latestWkid": 3994,
   "xyTolerance": 0.001,
   "zTolerance": 0.001,
   "mTolerance": 0.001,
   "falseX": -15144500,
   "falseY": -22823900,
   "xyUnits": 10000,
   "falseZ": -100000,
   "zUnits": 10000,
   "falseM": -100000,
   "mUnits": 10000
  }
 },
 "datesInUnknownTimezone": false,
 "minScale": 32000000,
 "maxScale": 125000,
 "units": "esriMeters",
 "supportedImageFormatTypes": "PNG32,PNG24,PNG,JPG,DIB,TIFF,EMF,PS,PDF,GIF,SVG,SVGZ,BMP",
 "documentInfo": {
  "Title": "NZBathy_names_contours_Merc41.aprx",
  "Author": "",
  "Comments": "",
  "Subject": "",
  "Category": "",
  "Version": "1.0.0",
  "AntialiasingMode": "Fast",
  "TextAntialiasingMode": "Force",
  "Keywords": "Regional,Bathymetry,Merc41,Mercator 41"
 },
 "capabilities": "Map,Query,Data",
 "supportedQueryFormats": "JSON, geoJSON, PBF",
 "exportTilesAllowed": true,
 "maxExportTilesCount": 100000,
 "referenceScale": 0.0,
 "supportsDatumTransformation": true,
 "archivingInfo": {
  "supportsHistoricMoment": false
 },
 "supportsClipping": true,
 "supportsSpatialFilter": true,
 "supportsTimeRelation": true,
 "supportsQueryDataElements": true,
 "mapUnits": {
  "uwkid": 9001
 },
 "maxRecordCount": 2000,
 "maxImageHeight": 4096,
 "maxImageWidth": 4096,
 "supportedExtensions": "WMSServer",
 "serviceItemId": "0e2a30a7007145359e4e025b67269e50"
}
