{
 "currentVersion": 10.7,
 "cimVersion": "2.3.0",
 "serviceDescription": "",
 "mapName": "Coastlines",
 "description": "",
 "copyrightText": "",
 "supportsDynamicLayers": false,
 "layers": [
  {
   "id": 0,
   "name": "NZ Coastlines and Islands Polygons (Topo 1:50k, 2016)",
   "parentLayerId": -1,
   "defaultVisibility": true,
   "subLayerIds": null,
   "minScale": 100000,
   "maxScale": 50000
  },
  {
   "id": 1,
   "name": "NZ Coastlines and Islands Polygons LINZ (Coarse)",
   "parentLayerId": -1,
   "defaultVisibility": true,
   "subLayerIds": null,
   "minScale": 20000000,
   "maxScale": 100000
  }
 ],
 "tables": [],
 "spatialReference": {
  "wkid": 3994,
  "latestWkid": 3994,
  "xyTolerance": 0.001,
  "zTolerance": 0.001,
  "mTolerance": 0.001,
  "falseX": -15144500,
  "falseY": -22823900,
  "xyUnits": 10000,
  "falseZ": -100000,
  "zUnits": 10000,
  "falseM": -100000,
  "mUnits": 10000
 },
 "singleFusedMapCache": true,
 "tileInfo": {
  "rows": 256,
  "cols": 256,
  "dpi": 96,
  "format": "PNG",
  "compressionQuality": 0,
  "origin": {
   "x": -15144500,
   "y": 22823900
  },
  "spatialReference": {
   "wkid": 3994,
   "latestWkid": 3994,
   "xyTolerance": 0.001,
   "zTolerance": 0.001,
   "mTolerance": 0.001,
   "falseX": -15144500,
   "falseY": -22823900,
   "xyUnits": 10000,
   "falseZ": -100000,
   "zUnits": 10000,
   "falseM": -100000,
   "mUnits": 10000
  },
  "lods": [
   {
    "level": 0,
    "resolution": 8466.683600033868,
    "scale": 32000000
   },
   {
    "level": 1,
    "resolution": 4233.341800016934,
    "scale": 16000000
   },
   {
    "level": 2,
    "resolution": 2116.670900008467,
    "scale": 8000000
   },
   {
    "level": 3,
    "resolution": 1058.3354500042335,
    "scale": 4000000
   },
   {
    "level": 4,
    "resolution": 529.1677250021168,
    "scale": 2000000
   },
   {
    "level": 5,
    "resolution": 264.5838625010584,
    "scale": 1000000
   },
   {
    "level": 6,
    "resolution": 132.2919312505292,
    "scale": 500000
   },
   {
    "level": 7,
    "resolution": 66.1459656252646,
    "scale": 250000
   },
   {
    "level": 8,
    "resolution": 33.0729828126323,
    "scale": 125000
   },
   {
    "level": 9,
    "resolution": 16.933367200067735,
    "scale": 64000
   },
   {
    "level": 10,
    "resolution": 8.466683600033868,
    "scale": 32000
   }
  ]
 },
 "initialExtent": {
  "xmin": 6058658.172701979,
  "ymin": -3949139.522565349,
  "xmax": 6518032.617898833,
  "ymax": -3341555.986703057,
  "spatialReference": {
   "wkid": 3994,
   "latestWkid": 3994,
   "xyTolerance": 0.001,
   "zTolerance": 0.001,
   "mTolerance": 0.001,
   "falseX": -15144500,
   "falseY": -22823900,
   "xyUnits": 10000,
   "falseZ": -100000,
   "zUnits": 10000,
   "falseM": -100000,
   "mUnits": 10000
  }
 },
 "fullExtent": {
  "xmin": 5541896.385499999,
  "ymin": -5199293.852600001,
  "xmax": 7054377.491599999,
  "ymax": -2557822.4288999997,
  "spatialReference": {
   "wkid": 3994,
   "latestWkid": 3994,
   "xyTolerance": 0.001,
   "zTolerance": 0.001,
   "mTolerance": 0.001,
   "falseX": -15144500,
   "falseY": -22823900,
   "xyUnits": 10000,
   "falseZ": -100000,
   "zUnits": 10000,
   "falseM": -100000,
   "mUnits": 10000
  }
 },
 "units": "esriMeters",
 "supportedImageFormatTypes": "PNG32,PNG24,PNG,JPG,DIB,TIFF,EMF,PS,PDF,GIF,SVG,SVGZ,BMP",
 "documentInfo": {
  "Title": "Map1",
  "Author": "",
  "Comments": "",
  "Subject": "",
  "Category": "",
  "AntialiasingMode": "Fast",
  "TextAntialiasingMode": "Force",
  "Keywords": ""
 },
 "supportedQueryFormats": "JSON, AMF, geoJSON",
 "supportsDatumTransformation": true,
 "archivingInfo": {
  "supportsHistoricMoment": false
 },
 "maxRecordCount": 1000,
 "maxImageHeight": 4096,
 "maxImageWidth": 4096,
 "minScale": 3.2E7,
 "maxScale": 32000.0,
 "exportTilesAllowed": true,
 "maxExportTilesCount": 100000,
 "capabilities": "TilesOnly,Tilemap",
 "supportedExtensions": "",
 "serviceItemId": "926fbb67e0a646ccbe31307a0e69283d"
}
