{
 "currentVersion": 11.1,
 "cimVersion": "3.1.0",
 "serviceDescription": "NIWA Ocean Basemap using 250 Bathymetry and Land - a compilation of NIWA Bathymetry & Bathymetric Hillshade and Land",
 "mapName": "Layers",
 "description": "",
 "copyrightText": "NIWA 2018",
 "supportsDynamicLayers": true,
 "layers": [
  {
   "id": 0,
   "name": "Land",
   "parentLayerId": -1,
   "defaultVisibility": true,
   "subLayerIds": [
    1
   ],
   "minScale": 0,
   "maxScale": 0,
   "type": "Group Layer",
   "supportsDynamicLegends": false
  },
  {
   "id": 1,
   "name": "separate island rasters",
   "parentLayerId": 0,
   "defaultVisibility": true,
   "subLayerIds": [
    2,
    3,
    4,
    5
   ],
   "minScale": 0,
   "maxScale": 0,
   "type": "Group Layer",
   "supportsDynamicLegends": false
  },
  {
   "id": 6,
   "name": "Bathymetry",
   "parentLayerId": -1,
   "defaultVisibility": true,
   "subLayerIds": [
    7,
    8,
    9
   ],
   "minScale": 0,
   "maxScale": 0,
   "type": "Group Layer",
   "supportsDynamicLegends": false
  }
 ],
 "tables": [],
 "spatialReference": {
  "wkid": 3994,
  "latestWkid": 3994,
  "xyTolerance": 0.001,
  "zTolerance": 0.001,
  "mTolerance": 0.001,
  "falseX": -15144500,
  "falseY": -22823900,
  "xyUnits": 1.9731946018736917E8,
  "falseZ": -100000,
  "zUnits": 10000,
  "falseM": -100000,
  "mUnits": 10000
 },
 "singleFusedMapCache": true,
 "tileInfo": {
  "rows": 256,
  "cols": 256,
  "dpi": 96,
  "format": "MIXED",
  "compressionQuality": 75,
  "origin": {
   "x": -15144500,
   "y": 22823900
  },
  "spatialReference": {
   "wkid": 3994,
   "latestWkid": 3994,
   "xyTolerance": 0.001,
   "zTolerance": 0.001,
   "mTolerance": 0.001,
   "falseX": -15144500,
   "falseY": -22823900,
   "xyUnits": 10000,
   "falseZ": -100000,
   "zUnits": 10000,
   "falseM": -100000,
   "mUnits": 10000
  },
  "lods": [
   {
    "level": 0,
    "resolution": 16933.367200067736,
    "scale": 64000000
   },
   {
    "level": 1,
    "resolution": 8466.683600033868,
    "scale": 32000000
   },
   {
    "level": 2,
    "resolution": 4233.341800016934,
    "scale": 16000000
   },
   {
    "level": 3,
    "resolution": 2116.670900008467,
    "scale": 8000000
   },
   {
    "level": 4,
    "resolution": 1058.3354500042335,
    "scale": 4000000
   },
   {
    "level": 5,
    "resolution": 529.1677250021168,
    "scale": 2000000
   },
   {
    "level": 6,
    "resolution": 264.5838625010584,
    "scale": 1000000
   },
   {
    "level": 7,
    "resolution": 132.2919312505292,
    "scale": 500000
   },
   {
    "level": 8,
    "resolution": 66.1459656252646,
    "scale": 250000
   },
   {
    "level": 9,
    "resolution": 33.0729828126323,
    "scale": 125000
   },
   {
    "level": 10,
    "resolution": 16.933367200067735,
    "scale": 64000
   },
   {
    "level": 11,
    "resolution": 13.229193125052918,
    "scale": 50000
   },
   {
    "level": 12,
    "resolution": 8.466683600033868,
    "scale": 32000
   },
   {
    "level": 13,
    "resolution": 4.233341800016934,
    "scale": 16000
   },
   {
    "level": 14,
    "resolution": 2.116670900008467,
    "scale": 8000
   }
  ]
 },
 "storageInfo": {
  "storageFormat": "esriMapCacheStorageModeCompactV2",
  "packetSize": 128
 },
 "initialExtent": {
  "xmin": 6428350.688207823,
  "ymin": -3751738.556505262,
  "xmax": 6536610.040839617,
  "ymax": -3666670.306901701,
  "spatialReference": {
   "wkid": 3994,
   "latestWkid": 3994,
   "xyTolerance": 0.001,
   "zTolerance": 0.001,
   "mTolerance": 0.001,
   "falseX": -15144500,
   "falseY": -22823900,
   "xyUnits": 1.9731946018736917E8,
   "falseZ": -100000,
   "zUnits": 10000,
   "falseM": -100000,
   "mUnits": 10000
  }
 },
 "fullExtent": {
  "xmin": "NaN",
  "ymin": "NaN",
  "xmax": "NaN",
  "ymax": "NaN",
  "spatialReference": {
   "wkid": 3994,
   "latestWkid": 3994,
   "xyTolerance": 0.001,
   "zTolerance": 0.001,
   "mTolerance": 0.001,
   "falseX": -15144500,
   "falseY": -22823900,
   "xyUnits": 1.9731946018736917E8,
   "falseZ": -100000,
   "zUnits": 10000,
   "falseM": -100000,
   "mUnits": 10000
  }
 },
 "datesInUnknownTimezone": false,
 "minScale": 64000000,
 "maxScale": 8000,
 "units": "esriMeters",
 "supportedImageFormatTypes": "PNG32,PNG24,PNG,JPG,DIB,TIFF,EMF,PS,PDF,GIF,SVG,SVGZ,BMP",
 "documentInfo": {
  "Title": "Untitled.aprx",
  "Author": "",
  "Comments": "NIWA Ocean Basemap using 250 Bathymetry and Land - a compilation of NIWA Bathymetry & Bathymetric Hillshade and Land",
  "Subject": "NIWA Ocean Basemap using 250 Bathymetry and Land",
  "Category": "",
  "Version": "1.0.0",
  "AntialiasingMode": "Fast",
  "TextAntialiasingMode": "Force",
  "Keywords": "Basemap,Ocean,Bathymetry"
 },
 "capabilities": "Map,Query,Data",
 "supportedQueryFormats": "JSON, geoJSON, PBF",
 "exportTilesAllowed": false,
 "referenceScale": 0.0,
 "datumTransformations": [
  {
   "geoTransforms": [
    {
     "wkid": 108460,
     "latestWkid": 1568,
     "transformForward": true,
     "name": "New_Zealand_1949_To_NZGD_2000_3_NTv2"
    }
   ]
  },
  {
   "geoTransforms": [
    {
     "wkid": 108460,
     "latestWkid": 1568,
     "transformForward": false,
     "name": "New_Zealand_1949_To_NZGD_2000_3_NTv2"
    }
   ]
  },
  {
   "geoTransforms": [
    {
     "wkid": 1670,
     "latestWkid": 1670,
     "transformForward": false,
     "name": "NZGD_1949_To_WGS_1984_3_NTv2"
    },
    {
     "wkid": 108460,
     "latestWkid": 1568,
     "transformForward": true,
     "name": "New_Zealand_1949_To_NZGD_2000_3_NTv2"
    }
   ]
  },
  {
   "geoTransforms": [
    {
     "wkid": 108460,
     "latestWkid": 1568,
     "transformForward": false,
     "name": "New_Zealand_1949_To_NZGD_2000_3_NTv2"
    },
    {
     "wkid": 1670,
     "latestWkid": 1670,
     "transformForward": true,
     "name": "NZGD_1949_To_WGS_1984_3_NTv2"
    }
   ]
  },
  {
   "geoTransforms": [
    {
     "wkid": 1670,
     "latestWkid": 1670,
     "transformForward": true,
     "name": "NZGD_1949_To_WGS_1984_3_NTv2"
    }
   ]
  },
  {
   "geoTransforms": [
    {
     "wkid": 1670,
     "latestWkid": 1670,
     "transformForward": false,
     "name": "NZGD_1949_To_WGS_1984_3_NTv2"
    }
   ]
  }
 ],
 "supportsDatumTransformation": true,
 "archivingInfo": {
  "supportsHistoricMoment": false
 },
 "supportsClipping": true,
 "supportsSpatialFilter": true,
 "supportsTimeRelation": true,
 "supportsQueryDataElements": true,
 "mapUnits": {
  "uwkid": 9001
 },
 "maxRecordCount": 2000,
 "maxImageHeight": 4096,
 "maxImageWidth": 4096,
 "supportedExtensions": "WMSServer",
 "serviceItemId": "14990efb4c8b474aa3d9b6342234d297"
}
