{
 "currentVersion": 11.1,
 "cimVersion": "3.1.0",
 "serviceDescription": "River Environment Classification- This is REC2 (Version 4) , March 2019 - a publicly available dataset from NIWA Taihoro Nukurangi. see here: https://www.niwa.co.nz/freshwater-and-estuaries/management-tools/river-environment-classification-0",
 "mapName": "REC",
 "description": "",
 "copyrightText": "NIWA 2019",
 "supportsDynamicLayers": true,
 "layers": [
  {
   "id": 0,
   "name": "Hydro_Net_Junctions",
   "parentLayerId": -1,
   "defaultVisibility": false,
   "subLayerIds": null,
   "minScale": 0,
   "maxScale": 0,
   "type": "Feature Layer",
   "geometryType": "esriGeometryPoint",
   "supportsDynamicLegends": true
  },
  {
   "id": 1,
   "name": "River Lines",
   "parentLayerId": -1,
   "defaultVisibility": true,
   "subLayerIds": null,
   "minScale": 0,
   "maxScale": 0,
   "type": "Feature Layer",
   "geometryType": "esriGeometryPolyline",
   "supportsDynamicLegends": true
  },
  {
   "id": 2,
   "name": "Watersheds",
   "parentLayerId": -1,
   "defaultVisibility": true,
   "subLayerIds": null,
   "minScale": 0,
   "maxScale": 0,
   "type": "Feature Layer",
   "geometryType": "esriGeometryPolygon",
   "supportsDynamicLegends": true
  }
 ],
 "tables": [],
 "spatialReference": {
  "wkid": 3994,
  "latestWkid": 3994,
  "xyTolerance": 0.001,
  "zTolerance": 0.001,
  "mTolerance": 0.001,
  "falseX": -15144500,
  "falseY": -22823900,
  "xyUnits": 1.9731946018736917E8,
  "falseZ": -100000,
  "zUnits": 10000,
  "falseM": -100000,
  "mUnits": 10000
 },
 "singleFusedMapCache": true,
 "tileInfo": {
  "rows": 256,
  "cols": 256,
  "dpi": 96,
  "format": "MIXED",
  "compressionQuality": 75,
  "origin": {
   "x": -15144500,
   "y": 22823900
  },
  "spatialReference": {
   "wkid": 3994,
   "latestWkid": 3994,
   "xyTolerance": 0.001,
   "zTolerance": 0.001,
   "mTolerance": 0.001,
   "falseX": -15144500,
   "falseY": -22823900,
   "xyUnits": 10000,
   "falseZ": -100000,
   "zUnits": 10000,
   "falseM": -100000,
   "mUnits": 10000
  },
  "lods": [
   {
    "level": 0,
    "resolution": 8466.683600033868,
    "scale": 32000000
   },
   {
    "level": 1,
    "resolution": 4233.341800016934,
    "scale": 16000000
   },
   {
    "level": 2,
    "resolution": 2116.670900008467,
    "scale": 8000000
   },
   {
    "level": 3,
    "resolution": 1058.3354500042335,
    "scale": 4000000
   },
   {
    "level": 4,
    "resolution": 529.1677250021168,
    "scale": 2000000
   },
   {
    "level": 5,
    "resolution": 264.5838625010584,
    "scale": 1000000
   },
   {
    "level": 6,
    "resolution": 132.2919312505292,
    "scale": 500000
   },
   {
    "level": 7,
    "resolution": 66.1459656252646,
    "scale": 250000
   },
   {
    "level": 8,
    "resolution": 33.0729828126323,
    "scale": 125000
   },
   {
    "level": 9,
    "resolution": 16.933367200067735,
    "scale": 64000
   },
   {
    "level": 10,
    "resolution": 8.466683600033868,
    "scale": 32000
   }
  ]
 },
 "storageInfo": {
  "storageFormat": "esriMapCacheStorageModeCompactV2",
  "packetSize": 128
 },
 "initialExtent": {
  "xmin": 6329681.070551461,
  "ymin": -3660892.0973036895,
  "xmax": 6333861.479925245,
  "ymax": -3655700.686814555,
  "spatialReference": {
   "wkid": 3994,
   "latestWkid": 3994,
   "xyTolerance": 0.001,
   "zTolerance": 0.001,
   "mTolerance": 0.001,
   "falseX": -15144500,
   "falseY": -22823900,
   "xyUnits": 1.9731946018736917E8,
   "falseZ": -100000,
   "zUnits": 10000,
   "falseM": -100000,
   "mUnits": 10000
  }
 },
 "fullExtent": {
  "xmin": 5575086.355384194,
  "ymin": -4518899.942831988,
  "xmax": 6685929.664010166,
  "ymax": -3054323.229360551,
  "spatialReference": {
   "wkid": 3994,
   "latestWkid": 3994,
   "xyTolerance": 0.001,
   "zTolerance": 0.001,
   "mTolerance": 0.001,
   "falseX": -15144500,
   "falseY": -22823900,
   "xyUnits": 1.9731946018736917E8,
   "falseZ": -100000,
   "zUnits": 10000,
   "falseM": -100000,
   "mUnits": 10000
  }
 },
 "datesInUnknownTimezone": false,
 "minScale": 32000000,
 "maxScale": 64000,
 "units": "esriMeters",
 "supportedImageFormatTypes": "PNG32,PNG24,PNG,JPG,DIB,TIFF,EMF,PS,PDF,GIF,SVG,SVGZ,BMP",
 "documentInfo": {
  "Title": "Map",
  "Author": "",
  "Comments": "",
  "Subject": "",
  "Category": "",
  "Version": "2.2.0",
  "AntialiasingMode": "Fast",
  "TextAntialiasingMode": "Force",
  "Keywords": "REC,River,Environment,Classification,Model, New Zealand, NZ"
 },
 "capabilities": "Map,Query,Data",
 "supportedQueryFormats": "JSON, geoJSON, PBF",
 "exportTilesAllowed": true,
 "maxExportTilesCount": 100000,
 "referenceScale": 49382.716049,
 "datumTransformations": [
  {
   "geoTransforms": [
    {
     "wkid": 1565,
     "latestWkid": 1565,
     "transformForward": true,
     "name": "NZGD_2000_To_WGS_1984_1"
    }
   ]
  }
 ],
 "supportsDatumTransformation": true,
 "archivingInfo": {
  "supportsHistoricMoment": false
 },
 "supportsClipping": true,
 "supportsSpatialFilter": true,
 "supportsTimeRelation": true,
 "supportsQueryDataElements": true,
 "mapUnits": {
  "uwkid": 9001
 },
 "maxRecordCount": 2000,
 "maxImageHeight": 4096,
 "maxImageWidth": 4096,
 "supportedExtensions": "WMSServer",
 "serviceItemId": "d1a28efe6686494c8eb1303fa33768ae"
}
