View In:
ArcGIS JavaScript
NIWA ArcGIS Enterprise Map Viewer
ArcGIS Earth
Service Description: Cook_Strait_Local_EMU_Scene_WEL
Name: Cook_Strait_Local_EMU_Scene_WEL
Description:
Single Fused Map Cache: true
Tile Info:
- Height: 512
- Width: 512
- DPI: 96
-
Levels of Detail: 15
-
Level ID: 0
[ Start Tile, End Tile ]
- Resolution: 4891.96981024998
- Scale: 1.8489297737236E7
- Format: LERC
- Compression Quality: 0.0
- LERC Error: 0.05
- Origin: X: -4020900.0
Y: 1.99981E7
- Spatial Reference: 2193
(2193)
LatestVCSWkid(0)
Storage Info:
- Storage Format: esriMapCacheStorageModeCompactV2
- Packet Size: 128
Extent:
XMin: 1655405.8838359723
YMin: 5311597.652216247
XMax: 1888501.094104657
YMax: 5523418.299642948
Spatial Reference: 2193
(2193)
LatestVCSWkid(0)
Initial Extent:
XMin: 1655405.8838359723
YMin: 5311597.652216247
XMax: 1888501.094104657
YMax: 5523418.299642948
Spatial Reference: 2193
(2193)
LatestVCSWkid(0)
Full Extent:
XMin: 1655405.8838359723
YMin: 5311597.652216247
XMax: 1888501.094104657
YMax: 5523418.299642948
Spatial Reference: 2193
(2193)
LatestVCSWkid(0)
Pixel Size X: 24.99948630080273
Pixel Size Y: 24.999486300802687
Band Count: 1
Pixel Type: F32
RasterFunction Infos: {"rasterFunctionInfos": [{
"name": "None",
"description": "",
"help": ""
}]}
Mensuration Capabilities: Basic
Has Histograms: true
Has Colormap: false
Has Multi Dimensions : false
Rendering Rule:
Min Scale: 1.8489297737236E7
Max Scale: 36111.909643
Copyright Text:
Service Data Type: esriImageServiceDataTypeGeneric
Min Values: -2917.1967773438
Max Values: 24.999996185303
Mean Values: -831.99939480375
Standard Deviation Values: 1008.9904590983
Object ID Field:
Fields:
None
Default Mosaic Method: Center
Allowed Mosaic Methods:
SortField:
SortValue: null
Mosaic Operator: First
Default Compression Quality: 75
Default Resampling Method: Bilinear
Max Record Count: null
Max Image Height: 4100
Max Image Width: 15000
Max Download Image Count: null
Max Mosaic Image Count: null
Allow Raster Function: true
Allow Copy: true
Allow Analysis: true
Allow Compute TiePoints: false
Supports Statistics: false
Supports Advanced Queries: false
Use StandardizedQueries: true
Raster Type Infos:
Name: Raster Dataset
Description: Supports all ArcGIS Raster Datasets
Help:
Has Raster Attribute Table: false
Edit Fields Info: null
Ownership Based AccessControl For Rasters: null
Child Resources:
Info
Histograms
Statistics
Key Properties
Legend
Raster Function Infos
Supported Operations:
Export Image
Identify
Measure
Compute Histograms
Compute Statistics Histograms
Get Samples
Compute Class Statistics
Query Boundary
Compute Pixel Location
Compute Angles
Validate
Project