View In:
ArcGIS JavaScript
NIWA ArcGIS Enterprise Map Viewer
ArcGIS Earth
ArcGIS Pro
Service Description:
Map Name: Local EMU Scene
Legend
All Layers and Tables
Layers:
Description:
Service Item Id: e10a0635069a42e3b2da66817af0edf2
Copyright Text:
Spatial Reference:
2193
(2193)
LatestVCSWkid(0)
Single Fused Map Cache: true
Tile Info:
- Height: 512
- Width: 512
- DPI: 96
-
Levels of Detail: 15
-
Level ID: 0
[ Start Tile, End Tile ]
- Resolution: 4891.96981024998
- Scale: 1.8489297737236E7
- Format: Mixed
- Compression Quality: 75.0
- Origin: X: -4020900.0
Y: 1.99981E7
- Spatial Reference: 2193
(2193)
LatestVCSWkid(0)
Initial Extent:
XMin: 1643751.123322538
YMin: 5301006.619844913
XMax: 1900155.8546180911
YMax: 5534009.332014283
Spatial Reference: 2193
(2193)
LatestVCSWkid(0)
Full Extent:
XMin: 1655405.8838359723
YMin: 5311597.652216247
XMax: 1888501.094104657
YMax: 5523418.299642948
Spatial Reference: 2193
(2193)
LatestVCSWkid(0)
Units: esriMeters
Supported Image Format Types: PNG32,PNG24,PNG,JPG,DIB,TIFF,EMF,PS,PDF,GIF,SVG,SVGZ,BMP
Document Info:
Title: Scene2
Author:
Comments:
Subject:
Category:
Keywords:
AntialiasingMode: Fast
TextAntialiasingMode: Force
Supports Dynamic Layers: false
MaxRecordCount: 1000
MaxImageHeight: 4096
MaxImageWidth: 4096
Supported Query Formats: JSON, AMF, geoJSON
Supports Query Data Elements:
Min Scale: 2311162.217155
Max Scale: 36111.909643
Supports Datum Transformation: true
Active Range Name:
Current Range Extent: [-787.9577026367188,-3.967146873474121]
Child Resources:
Info
Supported Operations:
QueryLegends
Return Updates